BEGIN:VCALENDAR
VERSION:2.0
PRODID:-//Torsten Haus | Vocals - ECPv4.6.21//NONSGML v1.0//EN
CALSCALE:GREGORIAN
METHOD:PUBLISH
X-WR-CALNAME:Torsten Haus | Vocals
X-ORIGINAL-URL:https://torstenhaus.de
X-WR-CALDESC:Veranstaltungen für Torsten Haus | Vocals
BEGIN:VEVENT
DTSTART;TZID=UTC+0:20250215T200000
DTEND;TZID=UTC+0:20250215T200000
DTSTAMP:20260423T083615
CREATED:20250109T115929Z
LAST-MODIFIED:20250109T115929Z
UID:490-1739649600-1739649600@torstenhaus.de
SUMMARY:Toto Recall im Beavers Erlenbach
DESCRIPTION:Wir freuen uns auf den Gig im super schönen Club in der Nähe von Miltenberg \n
URL:https://torstenhaus.de/event/toto-recall-im-beavers-erlenbach
LOCATION:Dr. Grammerst Str. 7a\, Erlenbach am Main\, Bayern\, 63906\, Deutschland
END:VEVENT
END:VCALENDAR