BEGIN:VCALENDAR
VERSION:2.0
PRODID:-//Torsten Haus | Vocals - ECPv4.6.21//NONSGML v1.0//EN
CALSCALE:GREGORIAN
METHOD:PUBLISH
X-WR-CALNAME:Torsten Haus | Vocals
X-ORIGINAL-URL:https://torstenhaus.de
X-WR-CALDESC:Veranstaltungen für Torsten Haus | Vocals
BEGIN:VEVENT
DTSTART;TZID=UTC+0:20241002T200000
DTEND;TZID=UTC+0:20241002T200000
DTSTAMP:20260421T141426
CREATED:20240205T090334Z
LAST-MODIFIED:20240205T102414Z
UID:450-1727899200-1727899200@torstenhaus.de
SUMMARY:Toto Recall im Bett\, Frankfurt
DESCRIPTION:Konzert als Support von unseren Kollegen von Journeye \n
URL:https://torstenhaus.de/event/toto-recall-im-bett-frankfurt
LOCATION:Schmidtstraße 12\, Frankfurt\, Hessen\, 60326\, Deutschland
END:VEVENT
END:VCALENDAR