BEGIN:VCALENDAR
VERSION:2.0
PRODID:-//Torsten Haus | Vocals - ECPv4.6.21//NONSGML v1.0//EN
CALSCALE:GREGORIAN
METHOD:PUBLISH
X-WR-CALNAME:Torsten Haus | Vocals
X-ORIGINAL-URL:https://torstenhaus.de
X-WR-CALDESC:Veranstaltungen für Torsten Haus | Vocals
BEGIN:VEVENT
DTSTART;TZID=UTC+0:20240907T190000
DTEND;TZID=UTC+0:20240907T190000
DTSTAMP:20260421T155113
CREATED:20240712T094019Z
LAST-MODIFIED:20240712T094019Z
UID:480-1725735600-1725735600@torstenhaus.de
SUMMARY:Torsten Haus | Solo live @ Illy's Place
DESCRIPTION:Ich freue mich wieder auf ein schönes Hutkonzert bei feinster grichischer und indischer Küche mit Freunden im Biergarten der Radsporthalle Klein-Krotzenburg. \nTischreservierungen unter: 06182 7862491 \n
URL:https://torstenhaus.de/event/torsten-haus-solo-live-illys-place-2
LOCATION:UferstrßE 19\, Hainburg Klein-Krotzenburg\, Hessen\, 63512\, Deutschland
END:VEVENT
END:VCALENDAR