BEGIN:VCALENDAR
VERSION:2.0
PRODID:-//Torsten Haus | Vocals - ECPv4.6.21//NONSGML v1.0//EN
CALSCALE:GREGORIAN
METHOD:PUBLISH
X-WR-CALNAME:Torsten Haus | Vocals
X-ORIGINAL-URL:https://torstenhaus.de
X-WR-CALDESC:Veranstaltungen für Torsten Haus | Vocals
BEGIN:VEVENT
DTSTART;TZID=UTC+0:20240217T200000
DTEND;TZID=UTC+0:20240217T200000
DTSTAMP:20260421T165800
CREATED:20240205T084636Z
LAST-MODIFIED:20240205T092538Z
UID:442-1708200000-1708200000@torstenhaus.de
SUMMARY:Toto Recall in der Scheuer Idstein
DESCRIPTION:Das Beste unsrer Lieblingsband Toto \n
URL:https://torstenhaus.de/event/toto-recall-in-der-scheuer-idstein
LOCATION:Wallbacher Straße 2\, Idstein\, Hessen\, 65510\, Deutschland
END:VEVENT
END:VCALENDAR