BEGIN:VCALENDAR
VERSION:2.0
PRODID:-//Torsten Haus | Vocals - ECPv4.6.21//NONSGML v1.0//EN
CALSCALE:GREGORIAN
METHOD:PUBLISH
X-WR-CALNAME:Torsten Haus | Vocals
X-ORIGINAL-URL:https://torstenhaus.de
X-WR-CALDESC:Veranstaltungen für Torsten Haus | Vocals
BEGIN:VEVENT
DTSTART;TZID=UTC+0:20240420T200000
DTEND;TZID=UTC+0:20240420T200000
DTSTAMP:20260421T201146
CREATED:20240205T085504Z
LAST-MODIFIED:20240205T092442Z
UID:448-1713643200-1713643200@torstenhaus.de
SUMMARY:Toto Recall im Schanz\, Mühlheim
DESCRIPTION:
URL:https://torstenhaus.de/event/toto-recall-im-schanz-muehlheim-2
LOCATION:Carl Zeis Str. 6\, Mühlheim am Main\, 63165
END:VEVENT
END:VCALENDAR