BEGIN:VCALENDAR
VERSION:2.0
PRODID:-//Torsten Haus | Vocals - ECPv4.6.21//NONSGML v1.0//EN
CALSCALE:GREGORIAN
METHOD:PUBLISH
X-WR-CALNAME:Torsten Haus | Vocals
X-ORIGINAL-URL:https://torstenhaus.de
X-WR-CALDESC:Veranstaltungen für Torsten Haus | Vocals
BEGIN:VEVENT
DTSTART;TZID=UTC+0:20240727T190000
DTEND;TZID=UTC+0:20240727T190000
DTSTAMP:20260422T020654
CREATED:20240712T093743Z
LAST-MODIFIED:20240725T173433Z
UID:478-1722106800-1722106800@torstenhaus.de
SUMMARY:Torsten Haus | Solo live @ Illy's Place fällt leider aus!
DESCRIPTION:Leider hat sich meine stimme nach meinem letzten grippalen Infekt noch nicht zurück geleldet. \nIch freue mich aber schon sehr auf das nächste mal am 7.9.24… \n
URL:https://torstenhaus.de/event/torsten-haus-solo-live-illys-place
LOCATION:UferstrßE 19\, Hainburg Klein-Krotzenburg\, Hessen\, 63512\, Deutschland
END:VEVENT
END:VCALENDAR