BEGIN:VCALENDAR
VERSION:2.0
PRODID:-//Torsten Haus | Vocals - ECPv4.6.21//NONSGML v1.0//EN
CALSCALE:GREGORIAN
METHOD:PUBLISH
X-WR-CALNAME:Torsten Haus | Vocals
X-ORIGINAL-URL:https://torstenhaus.de
X-WR-CALDESC:Veranstaltungen für Torsten Haus | Vocals
BEGIN:VEVENT
DTSTART;TZID=UTC+0:20230728T190000
DTEND;TZID=UTC+0:20230728T220000
DTSTAMP:20260421T103142
CREATED:20230615T195437Z
LAST-MODIFIED:20230615T195648Z
UID:431-1690570800-1690581600@torstenhaus.de
SUMMARY:Torsten Haus | Solo
DESCRIPTION:Akustik Pop mit Freunden \n
URL:https://torstenhaus.de/event/torsten-haus-solo-4
LOCATION:UferstrßE 19\, Hainburg Klein-Krotzenburg\, Hessen\, 63512\, Deutschland
END:VEVENT
END:VCALENDAR