BEGIN:VCALENDAR
VERSION:2.0
PRODID:-//Torsten Haus | Vocals - ECPv4.6.21//NONSGML v1.0//EN
CALSCALE:GREGORIAN
METHOD:PUBLISH
X-WR-CALNAME:Torsten Haus | Vocals
X-ORIGINAL-URL:https://torstenhaus.de
X-WR-CALDESC:Veranstaltungen für Torsten Haus | Vocals
BEGIN:VEVENT
DTSTART;TZID=UTC+0:20190825T153000
DTEND;TZID=UTC+0:20190825T180000
DTSTAMP:20260424T142027
CREATED:20190622T150235Z
LAST-MODIFIED:20190622T150235Z
UID:302-1566747000-1566756000@torstenhaus.de
SUMMARY:Notengarten Schülerkonzert in der Radsporthalle Hainburg Klein Krotzenburg
DESCRIPTION:Das alljährliche Schüler-Sommerkonzert der Musikschule Notengarten in Klein-Krotzenburg. \n
URL:https://torstenhaus.de/event/notengarten-schuelerkonzert-in-der-radsporthalle-hainburg-klein-krotzenburg
ORGANIZER;CN="Musikschule%20Notengarten%20Hainburg":MAILTO:mail@notengarten-hainburg.de
END:VEVENT
END:VCALENDAR