BEGIN:VCALENDAR
VERSION:2.0
PRODID:-//Torsten Haus | Vocals - ECPv4.6.21//NONSGML v1.0//EN
CALSCALE:GREGORIAN
METHOD:PUBLISH
X-WR-CALNAME:Torsten Haus | Vocals
X-ORIGINAL-URL:https://torstenhaus.de
X-WR-CALDESC:Veranstaltungen für Torsten Haus | Vocals
BEGIN:VEVENT
DTSTART;VALUE=DATE:20191231
DTEND;VALUE=DATE:20200101
DTSTAMP:20260424T154915
CREATED:20181120T180353Z
LAST-MODIFIED:20190922T154014Z
UID:182-1577750400-1577836799@torstenhaus.de
SUMMARY:NightBirds Silvester Party im Kurhaus Wiesbaden
DESCRIPTION:
URL:https://torstenhaus.de/event/nightbirds-silvester-party
END:VEVENT
END:VCALENDAR