BEGIN:VCALENDAR
VERSION:2.0
PRODID:-//Torsten Haus | Vocals - ECPv4.6.21//NONSGML v1.0//EN
CALSCALE:GREGORIAN
METHOD:PUBLISH
X-WR-CALNAME:Torsten Haus | Vocals
X-ORIGINAL-URL:https://torstenhaus.de
X-WR-CALDESC:Veranstaltungen für Torsten Haus | Vocals
BEGIN:VEVENT
DTSTART;TZID=UTC+0:20191019T200000
DTEND;TZID=UTC+0:20191019T200000
DTSTAMP:20260424T125056
CREATED:20190622T145717Z
LAST-MODIFIED:20190922T155343Z
UID:299-1571515200-1571515200@torstenhaus.de
SUMMARY:N.S.A. The noisy Soundagents auf der Kerwe in Waldsee
DESCRIPTION:Rock\, Pop\, Soul auf dem auf der Kerwe in Waldsee. \n
URL:https://torstenhaus.de/event/n-s-a-the-noisy-soundagents-auf-dem-altstadtfest-speyer
LOCATION:Uhlandstr. 8\, Waldsee\, Rheinland Pfalz\, 67165\, Deutschland
END:VEVENT
END:VCALENDAR