BEGIN:VCALENDAR
VERSION:2.0
PRODID:-//Torsten Haus | Vocals - ECPv4.6.21//NONSGML v1.0//EN
CALSCALE:GREGORIAN
METHOD:PUBLISH
X-WR-CALNAME:Torsten Haus | Vocals
X-ORIGINAL-URL:https://torstenhaus.de
X-WR-CALDESC:Veranstaltungen für Torsten Haus | Vocals
BEGIN:VEVENT
DTSTART;TZID=UTC+0:20240401T200000
DTEND;TZID=UTC+0:20240401T200000
DTSTAMP:20260421T201152
CREATED:20240328T094316Z
LAST-MODIFIED:20240328T094316Z
UID:460-1712001600-1712001600@torstenhaus.de
SUMMARY:Chicahlgo im Colos-Saal\, Aschaffenburg
DESCRIPTION:Nach Jahren darf ich mal wieder die schönsten Songs von Chicago und Blood Swat & Tears singen.\nAm Osermontag vertrete ich Sänger Uwe und freu’ mich sehr darauf. \n
URL:https://torstenhaus.de/event/chicahlgo-im-colos-saal-aschaffenburg
LOCATION:Rossmarkt 19\, Aschaffenburg\, Bayern\, 63739\, Deutschland
END:VEVENT
END:VCALENDAR